BEGIN:VCALENDAR
VERSION:2.0
PRODID:-//Tukios.com/
BEGIN:VEVENT
UID:9a1cf802-54f2-4c85-84c2-f9774644afba@www.buchfuneral.com
DTSTAMP:20260420T212610Z
DTSTART:20260423T140000Z
DTEND:20260423T150000Z
SUMMARY:Funeral Service
DESCRIPTION:
URL:https://www.buchfuneral.com/obituaries/steven-nissley
LOCATION: 529 East Farmersville Road  New Holland PA 17557
GEO:40.1381543;-76.1247292
END:VEVENT
END:VCALENDAR