BEGIN:VCALENDAR
VERSION:2.0
PRODID:-//Tukios.com/
BEGIN:VEVENT
UID:63bc510c-a78d-4a59-bce9-813b41f441ff@www.buchfuneral.com
DTSTAMP:20260420T212753Z
DTSTART:20260423T130000Z
DTEND:20260423T140000Z
SUMMARY:Viewing
DESCRIPTION:
URL:https://www.buchfuneral.com/obituaries/steven-nissley
LOCATION: 529 East Farmersville Road  New Holland PA 17557
GEO:40.1381543;-76.1247292
END:VEVENT
END:VCALENDAR