BEGIN:VCALENDAR
VERSION:2.0
PRODID:-//Tukios.com/
BEGIN:VEVENT
UID:e810a22c-e24a-4ee0-b095-6057e785c819@www.buchfuneral.com
DTSTAMP:20260420T213248Z
DTSTART:20260422T220000Z
DTEND:20260423T000000Z
SUMMARY:Viewing
DESCRIPTION:
URL:https://www.buchfuneral.com/obituaries/steven-nissley
LOCATION:New Covenant Mennonite Fellowship 529 Farmersville Rd  New 
	Holland PA 17557
GEO:40.1398096;-76.1223966
END:VEVENT
END:VCALENDAR