BEGIN:VCALENDAR
VERSION:2.0
PRODID:-//Tukios.com/
BEGIN:VEVENT
UID:f0f9bccd-be44-40cf-9403-13b37b6cbc92@www.buchfuneral.com
DTSTAMP:20260424T011137Z
DTSTART:20260428T150000Z
DTEND:20260428T160000Z
SUMMARY:Funeral Service
DESCRIPTION:
URL:https://www.buchfuneral.com/obituaries/francis-darin
LOCATION: 21 Market Square  Manheim PA 17545
GEO:40.1630837;-76.3955151
END:VEVENT
END:VCALENDAR