BEGIN:VCALENDAR
VERSION:2.0
PRODID:-//Tukios.com/
BEGIN:VEVENT
UID:7359e47d-6a6c-4413-9755-e1603d9132f3@www.buchfuneral.com
DTSTAMP:20260424T011326Z
DTSTART:20260428T140000Z
DTEND:20260428T150000Z
SUMMARY:Viewing
DESCRIPTION:
URL:https://www.buchfuneral.com/obituaries/francis-darin
LOCATION: 21 Market Square  Manheim PA 17545
GEO:40.1630837;-76.3955151
END:VEVENT
END:VCALENDAR