BEGIN:VCALENDAR
VERSION:2.0
PRODID:-//Tukios.com/
BEGIN:VEVENT
UID:7c57aedc-1efc-47d6-8adf-666078d9e7cd@www.buchfuneral.com
DTSTAMP:20260422T175302Z
DTSTART:20260507T160000Z
DTEND:20260507T170000Z
SUMMARY:Visitation
DESCRIPTION:
URL:https://www.buchfuneral.com/obituaries/doreen-f-myers
LOCATION: 2 South Hazel Street  Manheim PA 17545
GEO:40.1642166;-76.3931641
END:VEVENT
END:VCALENDAR