BEGIN:VCALENDAR
VERSION:2.0
PRODID:-//Tukios.com/
BEGIN:VEVENT
UID:2a9da0ba-7706-4fda-96c2-118e95c96cbb@www.buchfuneral.com
DTSTAMP:20260422T175309Z
DTSTART:20260507T170000Z
DTEND:20260507T180000Z
SUMMARY:Memorial Service
DESCRIPTION:
URL:https://www.buchfuneral.com/obituaries/doreen-f-myers
LOCATION: 2 South Hazel Street  Manheim PA 17545
GEO:40.1642166;-76.3931641
END:VEVENT
END:VCALENDAR