BEGIN:VCALENDAR
VERSION:2.0
PRODID:-//Tukios.com/
BEGIN:VEVENT
UID:f776fae4-0aa1-4ea0-bfc0-c2cdaf19990b@www.buchfuneral.com
DTSTAMP:20260423T234244Z
DTSTART:20260429T150000Z
DTEND:20260429T160000Z
SUMMARY:Visitation
DESCRIPTION:
URL:https://www.buchfuneral.com/obituaries/donald-hollinger
LOCATION: 21 Market Square  Manheim PA 17545
GEO:40.1630837;-76.3955151
END:VEVENT
END:VCALENDAR