BEGIN:VCALENDAR
VERSION:2.0
PRODID:-//Tukios.com/
BEGIN:VEVENT
UID:9c044ba7-3eae-4ba4-9c43-090da646b002@www.buchfuneral.com
DTSTAMP:20260423T233631Z
DTSTART:20260429T160000Z
DTEND:20260429T170000Z
SUMMARY:Funeral Service
DESCRIPTION:
URL:https://www.buchfuneral.com/obituaries/donald-hollinger
LOCATION: 21 Market Square  Manheim PA 17545
GEO:40.1630837;-76.3955151
END:VEVENT
END:VCALENDAR